BEGIN:VCALENDAR
VERSION:2.0
METHOD:PUBLISH
PRODID:-//Causal Sarl//LionsBase Calendar 5.0.x-dev//EN
TZID:Europe/Zurich
BEGIN:VEVENT
UID:29588_20260626@horn.lions.at
DTSTAMP:20260421T170442Z
DTSTART:20260626T130000Z
DTEND:20260626T170000Z
ORGANIZER:LC Horn öffentlich
LOCATION:Autohaus Lehr Horn\, Prager Straße 85\, 3580 Horn
SUMMARY:Rad Charity
DESCRIPTION:
END:VEVENT
END:VCALENDAR
